BEGIN:VCALENDAR
VERSION:2.0
PRODID:-//Summit Real Estate Academy - ECPv6.15.20//NONSGML v1.0//EN
CALSCALE:GREGORIAN
METHOD:PUBLISH
X-WR-CALNAME:Summit Real Estate Academy
X-ORIGINAL-URL:https://summitrealestateacademy.com
X-WR-CALDESC:Events for Summit Real Estate Academy
REFRESH-INTERVAL;VALUE=DURATION:PT1H
X-Robots-Tag:noindex
X-PUBLISHED-TTL:PT1H
BEGIN:VTIMEZONE
TZID:America/New_York
BEGIN:DAYLIGHT
TZOFFSETFROM:-0500
TZOFFSETTO:-0400
TZNAME:EDT
DTSTART:20230312T070000
END:DAYLIGHT
BEGIN:STANDARD
TZOFFSETFROM:-0400
TZOFFSETTO:-0500
TZNAME:EST
DTSTART:20231105T060000
END:STANDARD
BEGIN:DAYLIGHT
TZOFFSETFROM:-0500
TZOFFSETTO:-0400
TZNAME:EDT
DTSTART:20240310T070000
END:DAYLIGHT
BEGIN:STANDARD
TZOFFSETFROM:-0400
TZOFFSETTO:-0500
TZNAME:EST
DTSTART:20241103T060000
END:STANDARD
BEGIN:DAYLIGHT
TZOFFSETFROM:-0500
TZOFFSETTO:-0400
TZNAME:EDT
DTSTART:20250309T070000
END:DAYLIGHT
BEGIN:STANDARD
TZOFFSETFROM:-0400
TZOFFSETTO:-0500
TZNAME:EST
DTSTART:20251102T060000
END:STANDARD
END:VTIMEZONE
BEGIN:VEVENT
DTSTART;TZID=America/New_York:20240305T180000
DTEND;TZID=America/New_York:20240305T210000
DTSTAMP:20260422T064434
CREATED:20230914T200922Z
LAST-MODIFIED:20230914T200922Z
UID:10000574-1709661600-1709672400@summitrealestateacademy.com
SUMMARY:45-Hour Pre-Licensing Education Course: Night Class
DESCRIPTION:Our interactive course with state-certified instructors will prepare you for your career in real estate.
URL:https://summitrealestateacademy.com/event/45-hour-pre-licensing-education-course-night-class/2024-03-05/
END:VEVENT
BEGIN:VEVENT
DTSTART;TZID=America/New_York:20240305T090000
DTEND;TZID=America/New_York:20240305T120000
DTSTAMP:20260422T064434
CREATED:20230914T200802Z
LAST-MODIFIED:20230914T200802Z
UID:10000051-1709629200-1709640000@summitrealestateacademy.com
SUMMARY:45-Hour Pre-Licensing Education Course: Day Class
DESCRIPTION:Our interactive course with state-certified instructors will prepare you for your career in real estate.
URL:https://summitrealestateacademy.com/event/45-hour-pre-licensing-education-course-day-class/2024-03-05/
END:VEVENT
BEGIN:VEVENT
DTSTART;TZID=America/New_York:20240229T180000
DTEND;TZID=America/New_York:20240229T210000
DTSTAMP:20260422T064434
CREATED:20230914T200922Z
LAST-MODIFIED:20230914T200922Z
UID:10000573-1709229600-1709240400@summitrealestateacademy.com
SUMMARY:45-Hour Pre-Licensing Education Course: Night Class
DESCRIPTION:Our interactive course with state-certified instructors will prepare you for your career in real estate.
URL:https://summitrealestateacademy.com/event/45-hour-pre-licensing-education-course-night-class/2024-02-29/
END:VEVENT
BEGIN:VEVENT
DTSTART;TZID=America/New_York:20240229T090000
DTEND;TZID=America/New_York:20240229T120000
DTSTAMP:20260422T064434
CREATED:20230914T200802Z
LAST-MODIFIED:20230914T200802Z
UID:10000050-1709197200-1709208000@summitrealestateacademy.com
SUMMARY:45-Hour Pre-Licensing Education Course: Day Class
DESCRIPTION:Our interactive course with state-certified instructors will prepare you for your career in real estate.
URL:https://summitrealestateacademy.com/event/45-hour-pre-licensing-education-course-day-class/2024-02-29/
END:VEVENT
BEGIN:VEVENT
DTSTART;TZID=America/New_York:20240227T180000
DTEND;TZID=America/New_York:20240227T210000
DTSTAMP:20260422T064434
CREATED:20230914T200922Z
LAST-MODIFIED:20230914T200922Z
UID:10000572-1709056800-1709067600@summitrealestateacademy.com
SUMMARY:45-Hour Pre-Licensing Education Course: Night Class
DESCRIPTION:Our interactive course with state-certified instructors will prepare you for your career in real estate.
URL:https://summitrealestateacademy.com/event/45-hour-pre-licensing-education-course-night-class/2024-02-27/
END:VEVENT
BEGIN:VEVENT
DTSTART;TZID=America/New_York:20240227T090000
DTEND;TZID=America/New_York:20240227T120000
DTSTAMP:20260422T064434
CREATED:20230914T200802Z
LAST-MODIFIED:20230914T200802Z
UID:10000049-1709024400-1709035200@summitrealestateacademy.com
SUMMARY:45-Hour Pre-Licensing Education Course: Day Class
DESCRIPTION:Our interactive course with state-certified instructors will prepare you for your career in real estate.
URL:https://summitrealestateacademy.com/event/45-hour-pre-licensing-education-course-day-class/2024-02-27/
END:VEVENT
BEGIN:VEVENT
DTSTART;TZID=America/New_York:20240222T180000
DTEND;TZID=America/New_York:20240222T210000
DTSTAMP:20260422T064434
CREATED:20230914T200922Z
LAST-MODIFIED:20230914T200922Z
UID:10000571-1708624800-1708635600@summitrealestateacademy.com
SUMMARY:45-Hour Pre-Licensing Education Course: Night Class
DESCRIPTION:Our interactive course with state-certified instructors will prepare you for your career in real estate.
URL:https://summitrealestateacademy.com/event/45-hour-pre-licensing-education-course-night-class/2024-02-22/
END:VEVENT
BEGIN:VEVENT
DTSTART;TZID=America/New_York:20240222T090000
DTEND;TZID=America/New_York:20240222T120000
DTSTAMP:20260422T064434
CREATED:20230914T200802Z
LAST-MODIFIED:20230914T200802Z
UID:10000048-1708592400-1708603200@summitrealestateacademy.com
SUMMARY:45-Hour Pre-Licensing Education Course: Day Class
DESCRIPTION:Our interactive course with state-certified instructors will prepare you for your career in real estate.
URL:https://summitrealestateacademy.com/event/45-hour-pre-licensing-education-course-day-class/2024-02-22/
END:VEVENT
BEGIN:VEVENT
DTSTART;TZID=America/New_York:20240221T090000
DTEND;TZID=America/New_York:20240221T100000
DTSTAMP:20260422T064434
CREATED:20231002T200716Z
LAST-MODIFIED:20231002T200716Z
UID:10001057-1708506000-1708509600@summitrealestateacademy.com
SUMMARY:Free Course 202: Landlord/Tenant Law
DESCRIPTION:A real estate course designed for both renters\, tenants\, and realtors.
URL:https://summitrealestateacademy.com/event/free-course-202-landlord-tenant-law/2024-02-21/
END:VEVENT
BEGIN:VEVENT
DTSTART;TZID=America/New_York:20240220T180000
DTEND;TZID=America/New_York:20240220T210000
DTSTAMP:20260422T064434
CREATED:20230914T200922Z
LAST-MODIFIED:20230914T200922Z
UID:10000570-1708452000-1708462800@summitrealestateacademy.com
SUMMARY:45-Hour Pre-Licensing Education Course: Night Class
DESCRIPTION:Our interactive course with state-certified instructors will prepare you for your career in real estate.
URL:https://summitrealestateacademy.com/event/45-hour-pre-licensing-education-course-night-class/2024-02-20/
END:VEVENT
BEGIN:VEVENT
DTSTART;TZID=America/New_York:20240220T090000
DTEND;TZID=America/New_York:20240220T120000
DTSTAMP:20260422T064434
CREATED:20230914T200802Z
LAST-MODIFIED:20230914T200802Z
UID:10000047-1708419600-1708430400@summitrealestateacademy.com
SUMMARY:45-Hour Pre-Licensing Education Course: Day Class
DESCRIPTION:Our interactive course with state-certified instructors will prepare you for your career in real estate.
URL:https://summitrealestateacademy.com/event/45-hour-pre-licensing-education-course-day-class/2024-02-20/
END:VEVENT
BEGIN:VEVENT
DTSTART;TZID=America/New_York:20240215T180000
DTEND;TZID=America/New_York:20240215T210000
DTSTAMP:20260422T064434
CREATED:20230914T200922Z
LAST-MODIFIED:20230914T200922Z
UID:10000569-1708020000-1708030800@summitrealestateacademy.com
SUMMARY:45-Hour Pre-Licensing Education Course: Night Class
DESCRIPTION:Our interactive course with state-certified instructors will prepare you for your career in real estate.
URL:https://summitrealestateacademy.com/event/45-hour-pre-licensing-education-course-night-class/2024-02-15/
END:VEVENT
BEGIN:VEVENT
DTSTART;TZID=America/New_York:20240215T090000
DTEND;TZID=America/New_York:20240215T120000
DTSTAMP:20260422T064434
CREATED:20230914T200802Z
LAST-MODIFIED:20230914T200802Z
UID:10000046-1707987600-1707998400@summitrealestateacademy.com
SUMMARY:45-Hour Pre-Licensing Education Course: Day Class
DESCRIPTION:Our interactive course with state-certified instructors will prepare you for your career in real estate.
URL:https://summitrealestateacademy.com/event/45-hour-pre-licensing-education-course-day-class/2024-02-15/
END:VEVENT
BEGIN:VEVENT
DTSTART;TZID=America/New_York:20240213T180000
DTEND;TZID=America/New_York:20240213T210000
DTSTAMP:20260422T064434
CREATED:20230914T200922Z
LAST-MODIFIED:20230914T200922Z
UID:10000568-1707847200-1707858000@summitrealestateacademy.com
SUMMARY:45-Hour Pre-Licensing Education Course: Night Class
DESCRIPTION:Our interactive course with state-certified instructors will prepare you for your career in real estate.
URL:https://summitrealestateacademy.com/event/45-hour-pre-licensing-education-course-night-class/2024-02-13/
END:VEVENT
BEGIN:VEVENT
DTSTART;TZID=America/New_York:20240213T090000
DTEND;TZID=America/New_York:20240213T120000
DTSTAMP:20260422T064434
CREATED:20230914T200802Z
LAST-MODIFIED:20230914T200802Z
UID:10000045-1707814800-1707825600@summitrealestateacademy.com
SUMMARY:45-Hour Pre-Licensing Education Course: Day Class
DESCRIPTION:Our interactive course with state-certified instructors will prepare you for your career in real estate.
URL:https://summitrealestateacademy.com/event/45-hour-pre-licensing-education-course-day-class/2024-02-13/
END:VEVENT
BEGIN:VEVENT
DTSTART;TZID=America/New_York:20240208T180000
DTEND;TZID=America/New_York:20240208T210000
DTSTAMP:20260422T064434
CREATED:20230914T200922Z
LAST-MODIFIED:20230914T200922Z
UID:10000567-1707415200-1707426000@summitrealestateacademy.com
SUMMARY:45-Hour Pre-Licensing Education Course: Night Class
DESCRIPTION:Our interactive course with state-certified instructors will prepare you for your career in real estate.
URL:https://summitrealestateacademy.com/event/45-hour-pre-licensing-education-course-night-class/2024-02-08/
END:VEVENT
BEGIN:VEVENT
DTSTART;TZID=America/New_York:20240208T090000
DTEND;TZID=America/New_York:20240208T120000
DTSTAMP:20260422T064434
CREATED:20230914T200802Z
LAST-MODIFIED:20230914T200802Z
UID:10000044-1707382800-1707393600@summitrealestateacademy.com
SUMMARY:45-Hour Pre-Licensing Education Course: Day Class
DESCRIPTION:Our interactive course with state-certified instructors will prepare you for your career in real estate.
URL:https://summitrealestateacademy.com/event/45-hour-pre-licensing-education-course-day-class/2024-02-08/
END:VEVENT
BEGIN:VEVENT
DTSTART;TZID=America/New_York:20240207T090000
DTEND;TZID=America/New_York:20240207T100000
DTSTAMP:20260422T064434
CREATED:20231002T200716Z
LAST-MODIFIED:20231002T200716Z
UID:10001056-1707296400-1707300000@summitrealestateacademy.com
SUMMARY:Free Course 202: Landlord/Tenant Law
DESCRIPTION:A real estate course designed for both renters\, tenants\, and realtors.
URL:https://summitrealestateacademy.com/event/free-course-202-landlord-tenant-law/2024-02-07/
END:VEVENT
BEGIN:VEVENT
DTSTART;TZID=America/New_York:20240206T180000
DTEND;TZID=America/New_York:20240206T210000
DTSTAMP:20260422T064434
CREATED:20230914T200922Z
LAST-MODIFIED:20230914T200922Z
UID:10000566-1707242400-1707253200@summitrealestateacademy.com
SUMMARY:45-Hour Pre-Licensing Education Course: Night Class
DESCRIPTION:Our interactive course with state-certified instructors will prepare you for your career in real estate.
URL:https://summitrealestateacademy.com/event/45-hour-pre-licensing-education-course-night-class/2024-02-06/
END:VEVENT
BEGIN:VEVENT
DTSTART;TZID=America/New_York:20240206T090000
DTEND;TZID=America/New_York:20240206T120000
DTSTAMP:20260422T064434
CREATED:20230914T200802Z
LAST-MODIFIED:20230914T200802Z
UID:10000043-1707210000-1707220800@summitrealestateacademy.com
SUMMARY:45-Hour Pre-Licensing Education Course: Day Class
DESCRIPTION:Our interactive course with state-certified instructors will prepare you for your career in real estate.
URL:https://summitrealestateacademy.com/event/45-hour-pre-licensing-education-course-day-class/2024-02-06/
END:VEVENT
BEGIN:VEVENT
DTSTART;TZID=America/New_York:20240201T180000
DTEND;TZID=America/New_York:20240201T210000
DTSTAMP:20260422T064434
CREATED:20230914T200922Z
LAST-MODIFIED:20230914T200922Z
UID:10000565-1706810400-1706821200@summitrealestateacademy.com
SUMMARY:45-Hour Pre-Licensing Education Course: Night Class
DESCRIPTION:Our interactive course with state-certified instructors will prepare you for your career in real estate.
URL:https://summitrealestateacademy.com/event/45-hour-pre-licensing-education-course-night-class/2024-02-01/
END:VEVENT
BEGIN:VEVENT
DTSTART;TZID=America/New_York:20240201T090000
DTEND;TZID=America/New_York:20240201T120000
DTSTAMP:20260422T064434
CREATED:20230914T200802Z
LAST-MODIFIED:20230914T200802Z
UID:10000042-1706778000-1706788800@summitrealestateacademy.com
SUMMARY:45-Hour Pre-Licensing Education Course: Day Class
DESCRIPTION:Our interactive course with state-certified instructors will prepare you for your career in real estate.
URL:https://summitrealestateacademy.com/event/45-hour-pre-licensing-education-course-day-class/2024-02-01/
END:VEVENT
BEGIN:VEVENT
DTSTART;TZID=America/New_York:20240130T180000
DTEND;TZID=America/New_York:20240130T210000
DTSTAMP:20260422T064434
CREATED:20230914T200922Z
LAST-MODIFIED:20230914T200922Z
UID:10000564-1706637600-1706648400@summitrealestateacademy.com
SUMMARY:45-Hour Pre-Licensing Education Course: Night Class
DESCRIPTION:Our interactive course with state-certified instructors will prepare you for your career in real estate.
URL:https://summitrealestateacademy.com/event/45-hour-pre-licensing-education-course-night-class/2024-01-30/
END:VEVENT
BEGIN:VEVENT
DTSTART;TZID=America/New_York:20240130T090000
DTEND;TZID=America/New_York:20240130T120000
DTSTAMP:20260422T064434
CREATED:20230914T200802Z
LAST-MODIFIED:20230914T200802Z
UID:10000041-1706605200-1706616000@summitrealestateacademy.com
SUMMARY:45-Hour Pre-Licensing Education Course: Day Class
DESCRIPTION:Our interactive course with state-certified instructors will prepare you for your career in real estate.
URL:https://summitrealestateacademy.com/event/45-hour-pre-licensing-education-course-day-class/2024-01-30/
END:VEVENT
BEGIN:VEVENT
DTSTART;TZID=America/New_York:20240125T180000
DTEND;TZID=America/New_York:20240125T210000
DTSTAMP:20260422T064434
CREATED:20230914T200922Z
LAST-MODIFIED:20230914T200922Z
UID:10000563-1706205600-1706216400@summitrealestateacademy.com
SUMMARY:45-Hour Pre-Licensing Education Course: Night Class
DESCRIPTION:Our interactive course with state-certified instructors will prepare you for your career in real estate.
URL:https://summitrealestateacademy.com/event/45-hour-pre-licensing-education-course-night-class/2024-01-25/
END:VEVENT
BEGIN:VEVENT
DTSTART;TZID=America/New_York:20240125T090000
DTEND;TZID=America/New_York:20240125T120000
DTSTAMP:20260422T064434
CREATED:20230914T200802Z
LAST-MODIFIED:20230914T200802Z
UID:10000040-1706173200-1706184000@summitrealestateacademy.com
SUMMARY:45-Hour Pre-Licensing Education Course: Day Class
DESCRIPTION:Our interactive course with state-certified instructors will prepare you for your career in real estate.
URL:https://summitrealestateacademy.com/event/45-hour-pre-licensing-education-course-day-class/2024-01-25/
END:VEVENT
BEGIN:VEVENT
DTSTART;TZID=America/New_York:20240124T090000
DTEND;TZID=America/New_York:20240124T100000
DTSTAMP:20260422T064434
CREATED:20231002T200716Z
LAST-MODIFIED:20231002T200716Z
UID:10001055-1706086800-1706090400@summitrealestateacademy.com
SUMMARY:Free Course 202: Landlord/Tenant Law
DESCRIPTION:A real estate course designed for both renters\, tenants\, and realtors.
URL:https://summitrealestateacademy.com/event/free-course-202-landlord-tenant-law/2024-01-24/
END:VEVENT
BEGIN:VEVENT
DTSTART;TZID=America/New_York:20240123T180000
DTEND;TZID=America/New_York:20240123T210000
DTSTAMP:20260422T064434
CREATED:20230914T200922Z
LAST-MODIFIED:20230914T200922Z
UID:10000562-1706032800-1706043600@summitrealestateacademy.com
SUMMARY:45-Hour Pre-Licensing Education Course: Night Class
DESCRIPTION:Our interactive course with state-certified instructors will prepare you for your career in real estate.
URL:https://summitrealestateacademy.com/event/45-hour-pre-licensing-education-course-night-class/2024-01-23/
END:VEVENT
BEGIN:VEVENT
DTSTART;TZID=America/New_York:20240123T090000
DTEND;TZID=America/New_York:20240123T120000
DTSTAMP:20260422T064434
CREATED:20230914T200802Z
LAST-MODIFIED:20230914T200802Z
UID:10000039-1706000400-1706011200@summitrealestateacademy.com
SUMMARY:45-Hour Pre-Licensing Education Course: Day Class
DESCRIPTION:Our interactive course with state-certified instructors will prepare you for your career in real estate.
URL:https://summitrealestateacademy.com/event/45-hour-pre-licensing-education-course-day-class/2024-01-23/
END:VEVENT
BEGIN:VEVENT
DTSTART;TZID=America/New_York:20240118T180000
DTEND;TZID=America/New_York:20240118T210000
DTSTAMP:20260422T064434
CREATED:20230914T200922Z
LAST-MODIFIED:20230914T200922Z
UID:10000561-1705600800-1705611600@summitrealestateacademy.com
SUMMARY:45-Hour Pre-Licensing Education Course: Night Class
DESCRIPTION:Our interactive course with state-certified instructors will prepare you for your career in real estate.
URL:https://summitrealestateacademy.com/event/45-hour-pre-licensing-education-course-night-class/2024-01-18/
END:VEVENT
END:VCALENDAR