BEGIN:VCALENDAR
VERSION:2.0
PRODID:-//Summit Real Estate Academy - ECPv6.15.20//NONSGML v1.0//EN
CALSCALE:GREGORIAN
METHOD:PUBLISH
X-WR-CALNAME:Summit Real Estate Academy
X-ORIGINAL-URL:https://summitrealestateacademy.com
X-WR-CALDESC:Events for Summit Real Estate Academy
REFRESH-INTERVAL;VALUE=DURATION:PT1H
X-Robots-Tag:noindex
X-PUBLISHED-TTL:PT1H
BEGIN:VTIMEZONE
TZID:America/New_York
BEGIN:DAYLIGHT
TZOFFSETFROM:-0500
TZOFFSETTO:-0400
TZNAME:EDT
DTSTART:20220313T070000
END:DAYLIGHT
BEGIN:STANDARD
TZOFFSETFROM:-0400
TZOFFSETTO:-0500
TZNAME:EST
DTSTART:20221106T060000
END:STANDARD
BEGIN:DAYLIGHT
TZOFFSETFROM:-0500
TZOFFSETTO:-0400
TZNAME:EDT
DTSTART:20230312T070000
END:DAYLIGHT
BEGIN:STANDARD
TZOFFSETFROM:-0400
TZOFFSETTO:-0500
TZNAME:EST
DTSTART:20231105T060000
END:STANDARD
BEGIN:DAYLIGHT
TZOFFSETFROM:-0500
TZOFFSETTO:-0400
TZNAME:EDT
DTSTART:20240310T070000
END:DAYLIGHT
BEGIN:STANDARD
TZOFFSETFROM:-0400
TZOFFSETTO:-0500
TZNAME:EST
DTSTART:20241103T060000
END:STANDARD
END:VTIMEZONE
BEGIN:VEVENT
DTSTART;TZID=America/New_York:20231101T090000
DTEND;TZID=America/New_York:20231101T100000
DTSTAMP:20260422T192049
CREATED:20231002T200716Z
LAST-MODIFIED:20231002T200716Z
UID:10001049-1698829200-1698832800@summitrealestateacademy.com
SUMMARY:Free Course 202: Landlord/Tenant Law
DESCRIPTION:A real estate course designed for both renters\, tenants\, and realtors.
URL:https://summitrealestateacademy.com/event/free-course-202-landlord-tenant-law/2023-11-01/
END:VEVENT
BEGIN:VEVENT
DTSTART;TZID=America/New_York:20231031T180000
DTEND;TZID=America/New_York:20231031T210000
DTSTAMP:20260422T192049
CREATED:20230914T200922Z
LAST-MODIFIED:20230914T200922Z
UID:10000538-1698775200-1698786000@summitrealestateacademy.com
SUMMARY:45-Hour Pre-Licensing Education Course: Night Class
DESCRIPTION:Our interactive course with state-certified instructors will prepare you for your career in real estate.
URL:https://summitrealestateacademy.com/event/45-hour-pre-licensing-education-course-night-class/2023-10-31/
END:VEVENT
BEGIN:VEVENT
DTSTART;TZID=America/New_York:20231031T090000
DTEND;TZID=America/New_York:20231031T120000
DTSTAMP:20260422T192049
CREATED:20230914T200802Z
LAST-MODIFIED:20230914T200802Z
UID:10000015-1698742800-1698753600@summitrealestateacademy.com
SUMMARY:45-Hour Pre-Licensing Education Course: Day Class
DESCRIPTION:Our interactive course with state-certified instructors will prepare you for your career in real estate.
URL:https://summitrealestateacademy.com/event/45-hour-pre-licensing-education-course-day-class/2023-10-31/
END:VEVENT
BEGIN:VEVENT
DTSTART;TZID=America/New_York:20231026T180000
DTEND;TZID=America/New_York:20231026T210000
DTSTAMP:20260422T192049
CREATED:20230914T200922Z
LAST-MODIFIED:20230914T200922Z
UID:10000537-1698343200-1698354000@summitrealestateacademy.com
SUMMARY:45-Hour Pre-Licensing Education Course: Night Class
DESCRIPTION:Our interactive course with state-certified instructors will prepare you for your career in real estate.
URL:https://summitrealestateacademy.com/event/45-hour-pre-licensing-education-course-night-class/2023-10-26/
END:VEVENT
BEGIN:VEVENT
DTSTART;TZID=America/New_York:20231026T090000
DTEND;TZID=America/New_York:20231026T120000
DTSTAMP:20260422T192049
CREATED:20230914T200802Z
LAST-MODIFIED:20230914T200802Z
UID:10000014-1698310800-1698321600@summitrealestateacademy.com
SUMMARY:45-Hour Pre-Licensing Education Course: Day Class
DESCRIPTION:Our interactive course with state-certified instructors will prepare you for your career in real estate.
URL:https://summitrealestateacademy.com/event/45-hour-pre-licensing-education-course-day-class/2023-10-26/
END:VEVENT
BEGIN:VEVENT
DTSTART;TZID=America/New_York:20231024T180000
DTEND;TZID=America/New_York:20231024T210000
DTSTAMP:20260422T192049
CREATED:20230914T200922Z
LAST-MODIFIED:20230914T200922Z
UID:10000536-1698170400-1698181200@summitrealestateacademy.com
SUMMARY:45-Hour Pre-Licensing Education Course: Night Class
DESCRIPTION:Our interactive course with state-certified instructors will prepare you for your career in real estate.
URL:https://summitrealestateacademy.com/event/45-hour-pre-licensing-education-course-night-class/2023-10-24/
END:VEVENT
BEGIN:VEVENT
DTSTART;TZID=America/New_York:20231024T090000
DTEND;TZID=America/New_York:20231024T120000
DTSTAMP:20260422T192049
CREATED:20230914T200802Z
LAST-MODIFIED:20230914T200802Z
UID:10000013-1698138000-1698148800@summitrealestateacademy.com
SUMMARY:45-Hour Pre-Licensing Education Course: Day Class
DESCRIPTION:Our interactive course with state-certified instructors will prepare you for your career in real estate.
URL:https://summitrealestateacademy.com/event/45-hour-pre-licensing-education-course-day-class/2023-10-24/
END:VEVENT
BEGIN:VEVENT
DTSTART;TZID=America/New_York:20231019T180000
DTEND;TZID=America/New_York:20231019T210000
DTSTAMP:20260422T192049
CREATED:20230914T200922Z
LAST-MODIFIED:20230914T200922Z
UID:10000535-1697738400-1697749200@summitrealestateacademy.com
SUMMARY:45-Hour Pre-Licensing Education Course: Night Class
DESCRIPTION:Our interactive course with state-certified instructors will prepare you for your career in real estate.
URL:https://summitrealestateacademy.com/event/45-hour-pre-licensing-education-course-night-class/2023-10-19/
END:VEVENT
BEGIN:VEVENT
DTSTART;TZID=America/New_York:20231019T090000
DTEND;TZID=America/New_York:20231019T120000
DTSTAMP:20260422T192049
CREATED:20230914T200802Z
LAST-MODIFIED:20230914T200802Z
UID:10000012-1697706000-1697716800@summitrealestateacademy.com
SUMMARY:45-Hour Pre-Licensing Education Course: Day Class
DESCRIPTION:Our interactive course with state-certified instructors will prepare you for your career in real estate.
URL:https://summitrealestateacademy.com/event/45-hour-pre-licensing-education-course-day-class/2023-10-19/
END:VEVENT
BEGIN:VEVENT
DTSTART;TZID=America/New_York:20231018T090000
DTEND;TZID=America/New_York:20231018T100000
DTSTAMP:20260422T192049
CREATED:20231002T200716Z
LAST-MODIFIED:20231002T200716Z
UID:10001048-1697619600-1697623200@summitrealestateacademy.com
SUMMARY:Free Course 202: Landlord/Tenant Law
DESCRIPTION:A real estate course designed for both renters\, tenants\, and realtors.
URL:https://summitrealestateacademy.com/event/free-course-202-landlord-tenant-law/2023-10-18/
END:VEVENT
BEGIN:VEVENT
DTSTART;TZID=America/New_York:20231017T180000
DTEND;TZID=America/New_York:20231017T210000
DTSTAMP:20260422T192049
CREATED:20230914T200922Z
LAST-MODIFIED:20230914T200922Z
UID:10000534-1697565600-1697576400@summitrealestateacademy.com
SUMMARY:45-Hour Pre-Licensing Education Course: Night Class
DESCRIPTION:Our interactive course with state-certified instructors will prepare you for your career in real estate.
URL:https://summitrealestateacademy.com/event/45-hour-pre-licensing-education-course-night-class/2023-10-17/
END:VEVENT
BEGIN:VEVENT
DTSTART;TZID=America/New_York:20231017T090000
DTEND;TZID=America/New_York:20231017T120000
DTSTAMP:20260422T192049
CREATED:20230914T200802Z
LAST-MODIFIED:20230914T200802Z
UID:10000011-1697533200-1697544000@summitrealestateacademy.com
SUMMARY:45-Hour Pre-Licensing Education Course: Day Class
DESCRIPTION:Our interactive course with state-certified instructors will prepare you for your career in real estate.
URL:https://summitrealestateacademy.com/event/45-hour-pre-licensing-education-course-day-class/2023-10-17/
END:VEVENT
BEGIN:VEVENT
DTSTART;TZID=America/New_York:20231012T180000
DTEND;TZID=America/New_York:20231012T210000
DTSTAMP:20260422T192049
CREATED:20230914T200922Z
LAST-MODIFIED:20230914T200922Z
UID:10000533-1697133600-1697144400@summitrealestateacademy.com
SUMMARY:45-Hour Pre-Licensing Education Course: Night Class
DESCRIPTION:Our interactive course with state-certified instructors will prepare you for your career in real estate.
URL:https://summitrealestateacademy.com/event/45-hour-pre-licensing-education-course-night-class/2023-10-12/
END:VEVENT
BEGIN:VEVENT
DTSTART;TZID=America/New_York:20231012T090000
DTEND;TZID=America/New_York:20231012T120000
DTSTAMP:20260422T192049
CREATED:20230914T200802Z
LAST-MODIFIED:20230914T200802Z
UID:10000010-1697101200-1697112000@summitrealestateacademy.com
SUMMARY:45-Hour Pre-Licensing Education Course: Day Class
DESCRIPTION:Our interactive course with state-certified instructors will prepare you for your career in real estate.
URL:https://summitrealestateacademy.com/event/45-hour-pre-licensing-education-course-day-class/2023-10-12/
END:VEVENT
BEGIN:VEVENT
DTSTART;TZID=America/New_York:20231010T180000
DTEND;TZID=America/New_York:20231010T210000
DTSTAMP:20260422T192049
CREATED:20230914T200922Z
LAST-MODIFIED:20230914T200922Z
UID:10000532-1696960800-1696971600@summitrealestateacademy.com
SUMMARY:45-Hour Pre-Licensing Education Course: Night Class
DESCRIPTION:Our interactive course with state-certified instructors will prepare you for your career in real estate.
URL:https://summitrealestateacademy.com/event/45-hour-pre-licensing-education-course-night-class/2023-10-10/
END:VEVENT
BEGIN:VEVENT
DTSTART;TZID=America/New_York:20231010T090000
DTEND;TZID=America/New_York:20231010T120000
DTSTAMP:20260422T192049
CREATED:20230914T200802Z
LAST-MODIFIED:20230914T200802Z
UID:10000009-1696928400-1696939200@summitrealestateacademy.com
SUMMARY:45-Hour Pre-Licensing Education Course: Day Class
DESCRIPTION:Our interactive course with state-certified instructors will prepare you for your career in real estate.
URL:https://summitrealestateacademy.com/event/45-hour-pre-licensing-education-course-day-class/2023-10-10/
END:VEVENT
BEGIN:VEVENT
DTSTART;TZID=America/New_York:20231005T180000
DTEND;TZID=America/New_York:20231005T210000
DTSTAMP:20260422T192049
CREATED:20230914T200922Z
LAST-MODIFIED:20230914T200922Z
UID:10000531-1696528800-1696539600@summitrealestateacademy.com
SUMMARY:45-Hour Pre-Licensing Education Course: Night Class
DESCRIPTION:Our interactive course with state-certified instructors will prepare you for your career in real estate.
URL:https://summitrealestateacademy.com/event/45-hour-pre-licensing-education-course-night-class/2023-10-05/
END:VEVENT
BEGIN:VEVENT
DTSTART;TZID=America/New_York:20231005T090000
DTEND;TZID=America/New_York:20231005T120000
DTSTAMP:20260422T192049
CREATED:20230914T200802Z
LAST-MODIFIED:20230914T200802Z
UID:10000008-1696496400-1696507200@summitrealestateacademy.com
SUMMARY:45-Hour Pre-Licensing Education Course: Day Class
DESCRIPTION:Our interactive course with state-certified instructors will prepare you for your career in real estate.
URL:https://summitrealestateacademy.com/event/45-hour-pre-licensing-education-course-day-class/2023-10-05/
END:VEVENT
BEGIN:VEVENT
DTSTART;TZID=America/New_York:20231003T180000
DTEND;TZID=America/New_York:20231003T210000
DTSTAMP:20260422T192049
CREATED:20230914T200922Z
LAST-MODIFIED:20230914T200922Z
UID:10000530-1696356000-1696366800@summitrealestateacademy.com
SUMMARY:45-Hour Pre-Licensing Education Course: Night Class
DESCRIPTION:Our interactive course with state-certified instructors will prepare you for your career in real estate.
URL:https://summitrealestateacademy.com/event/45-hour-pre-licensing-education-course-night-class/2023-10-03/
END:VEVENT
BEGIN:VEVENT
DTSTART;TZID=America/New_York:20231003T090000
DTEND;TZID=America/New_York:20231003T120000
DTSTAMP:20260422T192049
CREATED:20230914T200802Z
LAST-MODIFIED:20230914T200802Z
UID:10000007-1696323600-1696334400@summitrealestateacademy.com
SUMMARY:45-Hour Pre-Licensing Education Course: Day Class
DESCRIPTION:Our interactive course with state-certified instructors will prepare you for your career in real estate.
URL:https://summitrealestateacademy.com/event/45-hour-pre-licensing-education-course-day-class/2023-10-03/
END:VEVENT
BEGIN:VEVENT
DTSTART;TZID=America/New_York:20230928T180000
DTEND;TZID=America/New_York:20230928T210000
DTSTAMP:20260422T192049
CREATED:20230914T200922Z
LAST-MODIFIED:20230914T200922Z
UID:10000529-1695924000-1695934800@summitrealestateacademy.com
SUMMARY:45-Hour Pre-Licensing Education Course: Night Class
DESCRIPTION:Our interactive course with state-certified instructors will prepare you for your career in real estate.
URL:https://summitrealestateacademy.com/event/45-hour-pre-licensing-education-course-night-class/2023-09-28/
END:VEVENT
BEGIN:VEVENT
DTSTART;TZID=America/New_York:20230928T090000
DTEND;TZID=America/New_York:20230928T120000
DTSTAMP:20260422T192049
CREATED:20230914T200802Z
LAST-MODIFIED:20230914T200802Z
UID:10000006-1695891600-1695902400@summitrealestateacademy.com
SUMMARY:45-Hour Pre-Licensing Education Course: Day Class
DESCRIPTION:Our interactive course with state-certified instructors will prepare you for your career in real estate.
URL:https://summitrealestateacademy.com/event/45-hour-pre-licensing-education-course-day-class/2023-09-28/
END:VEVENT
BEGIN:VEVENT
DTSTART;TZID=America/New_York:20230926T180000
DTEND;TZID=America/New_York:20230926T210000
DTSTAMP:20260422T192049
CREATED:20230914T200922Z
LAST-MODIFIED:20230914T200922Z
UID:10000528-1695751200-1695762000@summitrealestateacademy.com
SUMMARY:45-Hour Pre-Licensing Education Course: Night Class
DESCRIPTION:Our interactive course with state-certified instructors will prepare you for your career in real estate.
URL:https://summitrealestateacademy.com/event/45-hour-pre-licensing-education-course-night-class/2023-09-26/
END:VEVENT
BEGIN:VEVENT
DTSTART;TZID=America/New_York:20230926T090000
DTEND;TZID=America/New_York:20230926T120000
DTSTAMP:20260422T192049
CREATED:20230914T200802Z
LAST-MODIFIED:20230914T200802Z
UID:10000005-1695718800-1695729600@summitrealestateacademy.com
SUMMARY:45-Hour Pre-Licensing Education Course: Day Class
DESCRIPTION:Our interactive course with state-certified instructors will prepare you for your career in real estate.
URL:https://summitrealestateacademy.com/event/45-hour-pre-licensing-education-course-day-class/2023-09-26/
END:VEVENT
BEGIN:VEVENT
DTSTART;TZID=America/New_York:20230921T180000
DTEND;TZID=America/New_York:20230921T210000
DTSTAMP:20260422T192049
CREATED:20230914T200922Z
LAST-MODIFIED:20230914T200922Z
UID:10000527-1695319200-1695330000@summitrealestateacademy.com
SUMMARY:45-Hour Pre-Licensing Education Course: Night Class
DESCRIPTION:Our interactive course with state-certified instructors will prepare you for your career in real estate.
URL:https://summitrealestateacademy.com/event/45-hour-pre-licensing-education-course-night-class/2023-09-21/
END:VEVENT
BEGIN:VEVENT
DTSTART;TZID=America/New_York:20230921T090000
DTEND;TZID=America/New_York:20230921T120000
DTSTAMP:20260422T192049
CREATED:20230914T200802Z
LAST-MODIFIED:20230914T200802Z
UID:10000004-1695286800-1695297600@summitrealestateacademy.com
SUMMARY:45-Hour Pre-Licensing Education Course: Day Class
DESCRIPTION:Our interactive course with state-certified instructors will prepare you for your career in real estate.
URL:https://summitrealestateacademy.com/event/45-hour-pre-licensing-education-course-day-class/2023-09-21/
END:VEVENT
BEGIN:VEVENT
DTSTART;TZID=America/New_York:20230919T180000
DTEND;TZID=America/New_York:20230919T210000
DTSTAMP:20260422T192049
CREATED:20230914T200922Z
LAST-MODIFIED:20230914T200922Z
UID:10000526-1695146400-1695157200@summitrealestateacademy.com
SUMMARY:45-Hour Pre-Licensing Education Course: Night Class
DESCRIPTION:Our interactive course with state-certified instructors will prepare you for your career in real estate.
URL:https://summitrealestateacademy.com/event/45-hour-pre-licensing-education-course-night-class/2023-09-19/
END:VEVENT
BEGIN:VEVENT
DTSTART;TZID=America/New_York:20230919T090000
DTEND;TZID=America/New_York:20230919T120000
DTSTAMP:20260422T192049
CREATED:20230914T200802Z
LAST-MODIFIED:20230914T200802Z
UID:10000003-1695114000-1695124800@summitrealestateacademy.com
SUMMARY:45-Hour Pre-Licensing Education Course: Day Class
DESCRIPTION:Our interactive course with state-certified instructors will prepare you for your career in real estate.
URL:https://summitrealestateacademy.com/event/45-hour-pre-licensing-education-course-day-class/2023-09-19/
END:VEVENT
BEGIN:VEVENT
DTSTART;TZID=America/New_York:20230914T180000
DTEND;TZID=America/New_York:20230914T210000
DTSTAMP:20260422T192049
CREATED:20230914T200922Z
LAST-MODIFIED:20230914T200922Z
UID:10000525-1694714400-1694725200@summitrealestateacademy.com
SUMMARY:45-Hour Pre-Licensing Education Course: Night Class
DESCRIPTION:Our interactive course with state-certified instructors will prepare you for your career in real estate.
URL:https://summitrealestateacademy.com/event/45-hour-pre-licensing-education-course-night-class/2023-09-14/
END:VEVENT
BEGIN:VEVENT
DTSTART;TZID=America/New_York:20230914T090000
DTEND;TZID=America/New_York:20230914T120000
DTSTAMP:20260422T192049
CREATED:20230914T200802Z
LAST-MODIFIED:20230914T200802Z
UID:10000002-1694682000-1694692800@summitrealestateacademy.com
SUMMARY:45-Hour Pre-Licensing Education Course: Day Class
DESCRIPTION:Our interactive course with state-certified instructors will prepare you for your career in real estate.
URL:https://summitrealestateacademy.com/event/45-hour-pre-licensing-education-course-day-class/2023-09-14/
END:VEVENT
END:VCALENDAR