BEGIN:VCALENDAR
VERSION:2.0
PRODID:-//Summit Real Estate Academy - ECPv6.15.20//NONSGML v1.0//EN
CALSCALE:GREGORIAN
METHOD:PUBLISH
X-WR-CALNAME:Summit Real Estate Academy
X-ORIGINAL-URL:https://summitrealestateacademy.com
X-WR-CALDESC:Events for Summit Real Estate Academy
REFRESH-INTERVAL;VALUE=DURATION:PT1H
X-Robots-Tag:noindex
X-PUBLISHED-TTL:PT1H
BEGIN:VTIMEZONE
TZID:America/New_York
BEGIN:DAYLIGHT
TZOFFSETFROM:-0500
TZOFFSETTO:-0400
TZNAME:EDT
DTSTART:20270314T070000
END:DAYLIGHT
BEGIN:STANDARD
TZOFFSETFROM:-0400
TZOFFSETTO:-0500
TZNAME:EST
DTSTART:20271107T060000
END:STANDARD
BEGIN:DAYLIGHT
TZOFFSETFROM:-0500
TZOFFSETTO:-0400
TZNAME:EDT
DTSTART:20280312T070000
END:DAYLIGHT
BEGIN:STANDARD
TZOFFSETFROM:-0400
TZOFFSETTO:-0500
TZNAME:EST
DTSTART:20281105T060000
END:STANDARD
BEGIN:DAYLIGHT
TZOFFSETFROM:-0500
TZOFFSETTO:-0400
TZNAME:EDT
DTSTART:20290311T070000
END:DAYLIGHT
BEGIN:STANDARD
TZOFFSETFROM:-0400
TZOFFSETTO:-0500
TZNAME:EST
DTSTART:20291104T060000
END:STANDARD
END:VTIMEZONE
BEGIN:VEVENT
DTSTART;TZID=America/New_York:20280425T090000
DTEND;TZID=America/New_York:20280425T120000
DTSTAMP:20260421T131214
CREATED:20230914T200802Z
LAST-MODIFIED:20230914T200802Z
UID:10000483-1840266000-1840276800@summitrealestateacademy.com
SUMMARY:45-Hour Pre-Licensing Education Course: Day Class
DESCRIPTION:Our interactive course with state-certified instructors will prepare you for your career in real estate.
URL:https://summitrealestateacademy.com/event/45-hour-pre-licensing-education-course-day-class/2028-04-25/
END:VEVENT
BEGIN:VEVENT
DTSTART;TZID=America/New_York:20280425T180000
DTEND;TZID=America/New_York:20280425T210000
DTSTAMP:20260421T131215
CREATED:20230914T200922Z
LAST-MODIFIED:20230914T200922Z
UID:10001006-1840298400-1840309200@summitrealestateacademy.com
SUMMARY:45-Hour Pre-Licensing Education Course: Night Class
DESCRIPTION:Our interactive course with state-certified instructors will prepare you for your career in real estate.
URL:https://summitrealestateacademy.com/event/45-hour-pre-licensing-education-course-night-class/2028-04-25/
END:VEVENT
BEGIN:VEVENT
DTSTART;TZID=America/New_York:20280426T090000
DTEND;TZID=America/New_York:20280426T100000
DTSTAMP:20260421T131215
CREATED:20231002T200716Z
LAST-MODIFIED:20231002T200716Z
UID:10001166-1840352400-1840356000@summitrealestateacademy.com
SUMMARY:Free Course 202: Landlord/Tenant Law
DESCRIPTION:A real estate course designed for both renters\, tenants\, and realtors.
URL:https://summitrealestateacademy.com/event/free-course-202-landlord-tenant-law/2028-04-26/
END:VEVENT
BEGIN:VEVENT
DTSTART;TZID=America/New_York:20280427T090000
DTEND;TZID=America/New_York:20280427T120000
DTSTAMP:20260421T131215
CREATED:20230914T200802Z
LAST-MODIFIED:20230914T200802Z
UID:10000484-1840438800-1840449600@summitrealestateacademy.com
SUMMARY:45-Hour Pre-Licensing Education Course: Day Class
DESCRIPTION:Our interactive course with state-certified instructors will prepare you for your career in real estate.
URL:https://summitrealestateacademy.com/event/45-hour-pre-licensing-education-course-day-class/2028-04-27/
END:VEVENT
BEGIN:VEVENT
DTSTART;TZID=America/New_York:20280427T180000
DTEND;TZID=America/New_York:20280427T210000
DTSTAMP:20260421T131215
CREATED:20230914T200922Z
LAST-MODIFIED:20230914T200922Z
UID:10001007-1840471200-1840482000@summitrealestateacademy.com
SUMMARY:45-Hour Pre-Licensing Education Course: Night Class
DESCRIPTION:Our interactive course with state-certified instructors will prepare you for your career in real estate.
URL:https://summitrealestateacademy.com/event/45-hour-pre-licensing-education-course-night-class/2028-04-27/
END:VEVENT
BEGIN:VEVENT
DTSTART;TZID=America/New_York:20280502T090000
DTEND;TZID=America/New_York:20280502T120000
DTSTAMP:20260421T131215
CREATED:20230914T200802Z
LAST-MODIFIED:20230914T200802Z
UID:10000485-1840870800-1840881600@summitrealestateacademy.com
SUMMARY:45-Hour Pre-Licensing Education Course: Day Class
DESCRIPTION:Our interactive course with state-certified instructors will prepare you for your career in real estate.
URL:https://summitrealestateacademy.com/event/45-hour-pre-licensing-education-course-day-class/2028-05-02/
END:VEVENT
BEGIN:VEVENT
DTSTART;TZID=America/New_York:20280502T180000
DTEND;TZID=America/New_York:20280502T210000
DTSTAMP:20260421T131215
CREATED:20230914T200922Z
LAST-MODIFIED:20230914T200922Z
UID:10001008-1840903200-1840914000@summitrealestateacademy.com
SUMMARY:45-Hour Pre-Licensing Education Course: Night Class
DESCRIPTION:Our interactive course with state-certified instructors will prepare you for your career in real estate.
URL:https://summitrealestateacademy.com/event/45-hour-pre-licensing-education-course-night-class/2028-05-02/
END:VEVENT
BEGIN:VEVENT
DTSTART;TZID=America/New_York:20280504T090000
DTEND;TZID=America/New_York:20280504T120000
DTSTAMP:20260421T131215
CREATED:20230914T200802Z
LAST-MODIFIED:20230914T200802Z
UID:10000486-1841043600-1841054400@summitrealestateacademy.com
SUMMARY:45-Hour Pre-Licensing Education Course: Day Class
DESCRIPTION:Our interactive course with state-certified instructors will prepare you for your career in real estate.
URL:https://summitrealestateacademy.com/event/45-hour-pre-licensing-education-course-day-class/2028-05-04/
END:VEVENT
BEGIN:VEVENT
DTSTART;TZID=America/New_York:20280504T180000
DTEND;TZID=America/New_York:20280504T210000
DTSTAMP:20260421T131215
CREATED:20230914T200922Z
LAST-MODIFIED:20230914T200922Z
UID:10001009-1841076000-1841086800@summitrealestateacademy.com
SUMMARY:45-Hour Pre-Licensing Education Course: Night Class
DESCRIPTION:Our interactive course with state-certified instructors will prepare you for your career in real estate.
URL:https://summitrealestateacademy.com/event/45-hour-pre-licensing-education-course-night-class/2028-05-04/
END:VEVENT
BEGIN:VEVENT
DTSTART;TZID=America/New_York:20280509T090000
DTEND;TZID=America/New_York:20280509T120000
DTSTAMP:20260421T131215
CREATED:20230914T200802Z
LAST-MODIFIED:20230914T200802Z
UID:10000487-1841475600-1841486400@summitrealestateacademy.com
SUMMARY:45-Hour Pre-Licensing Education Course: Day Class
DESCRIPTION:Our interactive course with state-certified instructors will prepare you for your career in real estate.
URL:https://summitrealestateacademy.com/event/45-hour-pre-licensing-education-course-day-class/2028-05-09/
END:VEVENT
BEGIN:VEVENT
DTSTART;TZID=America/New_York:20280509T180000
DTEND;TZID=America/New_York:20280509T210000
DTSTAMP:20260421T131215
CREATED:20230914T200922Z
LAST-MODIFIED:20230914T200922Z
UID:10001010-1841508000-1841518800@summitrealestateacademy.com
SUMMARY:45-Hour Pre-Licensing Education Course: Night Class
DESCRIPTION:Our interactive course with state-certified instructors will prepare you for your career in real estate.
URL:https://summitrealestateacademy.com/event/45-hour-pre-licensing-education-course-night-class/2028-05-09/
END:VEVENT
BEGIN:VEVENT
DTSTART;TZID=America/New_York:20280510T090000
DTEND;TZID=America/New_York:20280510T100000
DTSTAMP:20260421T131215
CREATED:20231002T200716Z
LAST-MODIFIED:20231002T200716Z
UID:10001167-1841562000-1841565600@summitrealestateacademy.com
SUMMARY:Free Course 202: Landlord/Tenant Law
DESCRIPTION:A real estate course designed for both renters\, tenants\, and realtors.
URL:https://summitrealestateacademy.com/event/free-course-202-landlord-tenant-law/2028-05-10/
END:VEVENT
BEGIN:VEVENT
DTSTART;TZID=America/New_York:20280511T090000
DTEND;TZID=America/New_York:20280511T120000
DTSTAMP:20260421T131215
CREATED:20230914T200802Z
LAST-MODIFIED:20230914T200802Z
UID:10000488-1841648400-1841659200@summitrealestateacademy.com
SUMMARY:45-Hour Pre-Licensing Education Course: Day Class
DESCRIPTION:Our interactive course with state-certified instructors will prepare you for your career in real estate.
URL:https://summitrealestateacademy.com/event/45-hour-pre-licensing-education-course-day-class/2028-05-11/
END:VEVENT
BEGIN:VEVENT
DTSTART;TZID=America/New_York:20280511T180000
DTEND;TZID=America/New_York:20280511T210000
DTSTAMP:20260421T131215
CREATED:20230914T200922Z
LAST-MODIFIED:20230914T200922Z
UID:10001011-1841680800-1841691600@summitrealestateacademy.com
SUMMARY:45-Hour Pre-Licensing Education Course: Night Class
DESCRIPTION:Our interactive course with state-certified instructors will prepare you for your career in real estate.
URL:https://summitrealestateacademy.com/event/45-hour-pre-licensing-education-course-night-class/2028-05-11/
END:VEVENT
BEGIN:VEVENT
DTSTART;TZID=America/New_York:20280516T090000
DTEND;TZID=America/New_York:20280516T120000
DTSTAMP:20260421T131215
CREATED:20230914T200802Z
LAST-MODIFIED:20230914T200802Z
UID:10000489-1842080400-1842091200@summitrealestateacademy.com
SUMMARY:45-Hour Pre-Licensing Education Course: Day Class
DESCRIPTION:Our interactive course with state-certified instructors will prepare you for your career in real estate.
URL:https://summitrealestateacademy.com/event/45-hour-pre-licensing-education-course-day-class/2028-05-16/
END:VEVENT
BEGIN:VEVENT
DTSTART;TZID=America/New_York:20280516T180000
DTEND;TZID=America/New_York:20280516T210000
DTSTAMP:20260421T131215
CREATED:20230914T200922Z
LAST-MODIFIED:20230914T200922Z
UID:10001012-1842112800-1842123600@summitrealestateacademy.com
SUMMARY:45-Hour Pre-Licensing Education Course: Night Class
DESCRIPTION:Our interactive course with state-certified instructors will prepare you for your career in real estate.
URL:https://summitrealestateacademy.com/event/45-hour-pre-licensing-education-course-night-class/2028-05-16/
END:VEVENT
BEGIN:VEVENT
DTSTART;TZID=America/New_York:20280518T090000
DTEND;TZID=America/New_York:20280518T120000
DTSTAMP:20260421T131215
CREATED:20230914T200802Z
LAST-MODIFIED:20230914T200802Z
UID:10000490-1842253200-1842264000@summitrealestateacademy.com
SUMMARY:45-Hour Pre-Licensing Education Course: Day Class
DESCRIPTION:Our interactive course with state-certified instructors will prepare you for your career in real estate.
URL:https://summitrealestateacademy.com/event/45-hour-pre-licensing-education-course-day-class/2028-05-18/
END:VEVENT
BEGIN:VEVENT
DTSTART;TZID=America/New_York:20280518T180000
DTEND;TZID=America/New_York:20280518T210000
DTSTAMP:20260421T131215
CREATED:20230914T200922Z
LAST-MODIFIED:20230914T200922Z
UID:10001013-1842285600-1842296400@summitrealestateacademy.com
SUMMARY:45-Hour Pre-Licensing Education Course: Night Class
DESCRIPTION:Our interactive course with state-certified instructors will prepare you for your career in real estate.
URL:https://summitrealestateacademy.com/event/45-hour-pre-licensing-education-course-night-class/2028-05-18/
END:VEVENT
BEGIN:VEVENT
DTSTART;TZID=America/New_York:20280523T090000
DTEND;TZID=America/New_York:20280523T120000
DTSTAMP:20260421T131215
CREATED:20230914T200802Z
LAST-MODIFIED:20230914T200802Z
UID:10000491-1842685200-1842696000@summitrealestateacademy.com
SUMMARY:45-Hour Pre-Licensing Education Course: Day Class
DESCRIPTION:Our interactive course with state-certified instructors will prepare you for your career in real estate.
URL:https://summitrealestateacademy.com/event/45-hour-pre-licensing-education-course-day-class/2028-05-23/
END:VEVENT
BEGIN:VEVENT
DTSTART;TZID=America/New_York:20280523T180000
DTEND;TZID=America/New_York:20280523T210000
DTSTAMP:20260421T131215
CREATED:20230914T200922Z
LAST-MODIFIED:20230914T200922Z
UID:10001014-1842717600-1842728400@summitrealestateacademy.com
SUMMARY:45-Hour Pre-Licensing Education Course: Night Class
DESCRIPTION:Our interactive course with state-certified instructors will prepare you for your career in real estate.
URL:https://summitrealestateacademy.com/event/45-hour-pre-licensing-education-course-night-class/2028-05-23/
END:VEVENT
BEGIN:VEVENT
DTSTART;TZID=America/New_York:20280524T090000
DTEND;TZID=America/New_York:20280524T100000
DTSTAMP:20260421T131215
CREATED:20231002T200716Z
LAST-MODIFIED:20231002T200716Z
UID:10001168-1842771600-1842775200@summitrealestateacademy.com
SUMMARY:Free Course 202: Landlord/Tenant Law
DESCRIPTION:A real estate course designed for both renters\, tenants\, and realtors.
URL:https://summitrealestateacademy.com/event/free-course-202-landlord-tenant-law/2028-05-24/
END:VEVENT
BEGIN:VEVENT
DTSTART;TZID=America/New_York:20280525T090000
DTEND;TZID=America/New_York:20280525T120000
DTSTAMP:20260421T131215
CREATED:20230914T200802Z
LAST-MODIFIED:20230914T200802Z
UID:10000492-1842858000-1842868800@summitrealestateacademy.com
SUMMARY:45-Hour Pre-Licensing Education Course: Day Class
DESCRIPTION:Our interactive course with state-certified instructors will prepare you for your career in real estate.
URL:https://summitrealestateacademy.com/event/45-hour-pre-licensing-education-course-day-class/2028-05-25/
END:VEVENT
BEGIN:VEVENT
DTSTART;TZID=America/New_York:20280525T180000
DTEND;TZID=America/New_York:20280525T210000
DTSTAMP:20260421T131215
CREATED:20230914T200922Z
LAST-MODIFIED:20230914T200922Z
UID:10001015-1842890400-1842901200@summitrealestateacademy.com
SUMMARY:45-Hour Pre-Licensing Education Course: Night Class
DESCRIPTION:Our interactive course with state-certified instructors will prepare you for your career in real estate.
URL:https://summitrealestateacademy.com/event/45-hour-pre-licensing-education-course-night-class/2028-05-25/
END:VEVENT
BEGIN:VEVENT
DTSTART;TZID=America/New_York:20280530T090000
DTEND;TZID=America/New_York:20280530T120000
DTSTAMP:20260421T131215
CREATED:20230914T200802Z
LAST-MODIFIED:20230914T200802Z
UID:10000493-1843290000-1843300800@summitrealestateacademy.com
SUMMARY:45-Hour Pre-Licensing Education Course: Day Class
DESCRIPTION:Our interactive course with state-certified instructors will prepare you for your career in real estate.
URL:https://summitrealestateacademy.com/event/45-hour-pre-licensing-education-course-day-class/2028-05-30/
END:VEVENT
BEGIN:VEVENT
DTSTART;TZID=America/New_York:20280530T180000
DTEND;TZID=America/New_York:20280530T210000
DTSTAMP:20260421T131215
CREATED:20230914T200922Z
LAST-MODIFIED:20230914T200922Z
UID:10001016-1843322400-1843333200@summitrealestateacademy.com
SUMMARY:45-Hour Pre-Licensing Education Course: Night Class
DESCRIPTION:Our interactive course with state-certified instructors will prepare you for your career in real estate.
URL:https://summitrealestateacademy.com/event/45-hour-pre-licensing-education-course-night-class/2028-05-30/
END:VEVENT
BEGIN:VEVENT
DTSTART;TZID=America/New_York:20280601T090000
DTEND;TZID=America/New_York:20280601T120000
DTSTAMP:20260421T131215
CREATED:20230914T200802Z
LAST-MODIFIED:20230914T200802Z
UID:10000494-1843462800-1843473600@summitrealestateacademy.com
SUMMARY:45-Hour Pre-Licensing Education Course: Day Class
DESCRIPTION:Our interactive course with state-certified instructors will prepare you for your career in real estate.
URL:https://summitrealestateacademy.com/event/45-hour-pre-licensing-education-course-day-class/2028-06-01/
END:VEVENT
BEGIN:VEVENT
DTSTART;TZID=America/New_York:20280601T180000
DTEND;TZID=America/New_York:20280601T210000
DTSTAMP:20260421T131215
CREATED:20230914T200922Z
LAST-MODIFIED:20230914T200922Z
UID:10001017-1843495200-1843506000@summitrealestateacademy.com
SUMMARY:45-Hour Pre-Licensing Education Course: Night Class
DESCRIPTION:Our interactive course with state-certified instructors will prepare you for your career in real estate.
URL:https://summitrealestateacademy.com/event/45-hour-pre-licensing-education-course-night-class/2028-06-01/
END:VEVENT
BEGIN:VEVENT
DTSTART;TZID=America/New_York:20280606T090000
DTEND;TZID=America/New_York:20280606T120000
DTSTAMP:20260421T131215
CREATED:20230914T200802Z
LAST-MODIFIED:20230914T200802Z
UID:10000495-1843894800-1843905600@summitrealestateacademy.com
SUMMARY:45-Hour Pre-Licensing Education Course: Day Class
DESCRIPTION:Our interactive course with state-certified instructors will prepare you for your career in real estate.
URL:https://summitrealestateacademy.com/event/45-hour-pre-licensing-education-course-day-class/2028-06-06/
END:VEVENT
BEGIN:VEVENT
DTSTART;TZID=America/New_York:20280606T180000
DTEND;TZID=America/New_York:20280606T210000
DTSTAMP:20260421T131215
CREATED:20230914T200922Z
LAST-MODIFIED:20230914T200922Z
UID:10001018-1843927200-1843938000@summitrealestateacademy.com
SUMMARY:45-Hour Pre-Licensing Education Course: Night Class
DESCRIPTION:Our interactive course with state-certified instructors will prepare you for your career in real estate.
URL:https://summitrealestateacademy.com/event/45-hour-pre-licensing-education-course-night-class/2028-06-06/
END:VEVENT
BEGIN:VEVENT
DTSTART;TZID=America/New_York:20280607T090000
DTEND;TZID=America/New_York:20280607T100000
DTSTAMP:20260421T131215
CREATED:20231002T200716Z
LAST-MODIFIED:20231002T200716Z
UID:10001169-1843981200-1843984800@summitrealestateacademy.com
SUMMARY:Free Course 202: Landlord/Tenant Law
DESCRIPTION:A real estate course designed for both renters\, tenants\, and realtors.
URL:https://summitrealestateacademy.com/event/free-course-202-landlord-tenant-law/2028-06-07/
END:VEVENT
END:VCALENDAR