BEGIN:VCALENDAR
VERSION:2.0
PRODID:-//Summit Real Estate Academy - ECPv6.15.20//NONSGML v1.0//EN
CALSCALE:GREGORIAN
METHOD:PUBLISH
X-ORIGINAL-URL:https://summitrealestateacademy.com
X-WR-CALDESC:Events for Summit Real Estate Academy
REFRESH-INTERVAL;VALUE=DURATION:PT1H
X-Robots-Tag:noindex
X-PUBLISHED-TTL:PT1H
BEGIN:VTIMEZONE
TZID:America/New_York
BEGIN:DAYLIGHT
TZOFFSETFROM:-0500
TZOFFSETTO:-0400
TZNAME:EDT
DTSTART:20270314T070000
END:DAYLIGHT
BEGIN:STANDARD
TZOFFSETFROM:-0400
TZOFFSETTO:-0500
TZNAME:EST
DTSTART:20271107T060000
END:STANDARD
BEGIN:DAYLIGHT
TZOFFSETFROM:-0500
TZOFFSETTO:-0400
TZNAME:EDT
DTSTART:20280312T070000
END:DAYLIGHT
BEGIN:STANDARD
TZOFFSETFROM:-0400
TZOFFSETTO:-0500
TZNAME:EST
DTSTART:20281105T060000
END:STANDARD
BEGIN:DAYLIGHT
TZOFFSETFROM:-0500
TZOFFSETTO:-0400
TZNAME:EDT
DTSTART:20290311T070000
END:DAYLIGHT
BEGIN:STANDARD
TZOFFSETFROM:-0400
TZOFFSETTO:-0500
TZNAME:EST
DTSTART:20291104T060000
END:STANDARD
END:VTIMEZONE
BEGIN:VEVENT
DTSTART;TZID=America/New_York:20280711T090000
DTEND;TZID=America/New_York:20280711T120000
DTSTAMP:20260423T104705
CREATED:20230914T200802Z
LAST-MODIFIED:20230914T200802Z
UID:10000505-1846918800-1846929600@summitrealestateacademy.com
SUMMARY:45-Hour Pre-Licensing Education Course: Day Class
DESCRIPTION:Our interactive course with state-certified instructors will prepare you for your career in real estate.
URL:https://summitrealestateacademy.com/event/45-hour-pre-licensing-education-course-day-class/2028-07-11/
END:VEVENT
BEGIN:VEVENT
DTSTART;TZID=America/New_York:20280711T180000
DTEND;TZID=America/New_York:20280711T210000
DTSTAMP:20260423T104705
CREATED:20230914T200922Z
LAST-MODIFIED:20230914T200922Z
UID:10001028-1846951200-1846962000@summitrealestateacademy.com
SUMMARY:45-Hour Pre-Licensing Education Course: Night Class
DESCRIPTION:Our interactive course with state-certified instructors will prepare you for your career in real estate.
URL:https://summitrealestateacademy.com/event/45-hour-pre-licensing-education-course-night-class/2028-07-11/
END:VEVENT
BEGIN:VEVENT
DTSTART;TZID=America/New_York:20280713T090000
DTEND;TZID=America/New_York:20280713T120000
DTSTAMP:20260423T104705
CREATED:20230914T200802Z
LAST-MODIFIED:20230914T200802Z
UID:10000506-1847091600-1847102400@summitrealestateacademy.com
SUMMARY:45-Hour Pre-Licensing Education Course: Day Class
DESCRIPTION:Our interactive course with state-certified instructors will prepare you for your career in real estate.
URL:https://summitrealestateacademy.com/event/45-hour-pre-licensing-education-course-day-class/2028-07-13/
END:VEVENT
BEGIN:VEVENT
DTSTART;TZID=America/New_York:20280713T180000
DTEND;TZID=America/New_York:20280713T210000
DTSTAMP:20260423T104705
CREATED:20230914T200922Z
LAST-MODIFIED:20230914T200922Z
UID:10001029-1847124000-1847134800@summitrealestateacademy.com
SUMMARY:45-Hour Pre-Licensing Education Course: Night Class
DESCRIPTION:Our interactive course with state-certified instructors will prepare you for your career in real estate.
URL:https://summitrealestateacademy.com/event/45-hour-pre-licensing-education-course-night-class/2028-07-13/
END:VEVENT
BEGIN:VEVENT
DTSTART;TZID=America/New_York:20280718T090000
DTEND;TZID=America/New_York:20280718T120000
DTSTAMP:20260423T104705
CREATED:20230914T200802Z
LAST-MODIFIED:20230914T200802Z
UID:10000507-1847523600-1847534400@summitrealestateacademy.com
SUMMARY:45-Hour Pre-Licensing Education Course: Day Class
DESCRIPTION:Our interactive course with state-certified instructors will prepare you for your career in real estate.
URL:https://summitrealestateacademy.com/event/45-hour-pre-licensing-education-course-day-class/2028-07-18/
END:VEVENT
BEGIN:VEVENT
DTSTART;TZID=America/New_York:20280718T180000
DTEND;TZID=America/New_York:20280718T210000
DTSTAMP:20260423T104705
CREATED:20230914T200922Z
LAST-MODIFIED:20230914T200922Z
UID:10001030-1847556000-1847566800@summitrealestateacademy.com
SUMMARY:45-Hour Pre-Licensing Education Course: Night Class
DESCRIPTION:Our interactive course with state-certified instructors will prepare you for your career in real estate.
URL:https://summitrealestateacademy.com/event/45-hour-pre-licensing-education-course-night-class/2028-07-18/
END:VEVENT
BEGIN:VEVENT
DTSTART;TZID=America/New_York:20280719T090000
DTEND;TZID=America/New_York:20280719T100000
DTSTAMP:20260423T104705
CREATED:20231002T200716Z
LAST-MODIFIED:20231002T200716Z
UID:10001172-1847610000-1847613600@summitrealestateacademy.com
SUMMARY:Free Course 202: Landlord/Tenant Law
DESCRIPTION:A real estate course designed for both renters\, tenants\, and realtors.
URL:https://summitrealestateacademy.com/event/free-course-202-landlord-tenant-law/2028-07-19/
END:VEVENT
BEGIN:VEVENT
DTSTART;TZID=America/New_York:20280720T090000
DTEND;TZID=America/New_York:20280720T120000
DTSTAMP:20260423T104705
CREATED:20230914T200802Z
LAST-MODIFIED:20230914T200802Z
UID:10000508-1847696400-1847707200@summitrealestateacademy.com
SUMMARY:45-Hour Pre-Licensing Education Course: Day Class
DESCRIPTION:Our interactive course with state-certified instructors will prepare you for your career in real estate.
URL:https://summitrealestateacademy.com/event/45-hour-pre-licensing-education-course-day-class/2028-07-20/
END:VEVENT
BEGIN:VEVENT
DTSTART;TZID=America/New_York:20280720T180000
DTEND;TZID=America/New_York:20280720T210000
DTSTAMP:20260423T104705
CREATED:20230914T200922Z
LAST-MODIFIED:20230914T200922Z
UID:10001031-1847728800-1847739600@summitrealestateacademy.com
SUMMARY:45-Hour Pre-Licensing Education Course: Night Class
DESCRIPTION:Our interactive course with state-certified instructors will prepare you for your career in real estate.
URL:https://summitrealestateacademy.com/event/45-hour-pre-licensing-education-course-night-class/2028-07-20/
END:VEVENT
BEGIN:VEVENT
DTSTART;TZID=America/New_York:20280725T090000
DTEND;TZID=America/New_York:20280725T120000
DTSTAMP:20260423T104705
CREATED:20230914T200802Z
LAST-MODIFIED:20230914T200802Z
UID:10000509-1848128400-1848139200@summitrealestateacademy.com
SUMMARY:45-Hour Pre-Licensing Education Course: Day Class
DESCRIPTION:Our interactive course with state-certified instructors will prepare you for your career in real estate.
URL:https://summitrealestateacademy.com/event/45-hour-pre-licensing-education-course-day-class/2028-07-25/
END:VEVENT
BEGIN:VEVENT
DTSTART;TZID=America/New_York:20280725T180000
DTEND;TZID=America/New_York:20280725T210000
DTSTAMP:20260423T104705
CREATED:20230914T200922Z
LAST-MODIFIED:20230914T200922Z
UID:10001032-1848160800-1848171600@summitrealestateacademy.com
SUMMARY:45-Hour Pre-Licensing Education Course: Night Class
DESCRIPTION:Our interactive course with state-certified instructors will prepare you for your career in real estate.
URL:https://summitrealestateacademy.com/event/45-hour-pre-licensing-education-course-night-class/2028-07-25/
END:VEVENT
BEGIN:VEVENT
DTSTART;TZID=America/New_York:20280727T090000
DTEND;TZID=America/New_York:20280727T120000
DTSTAMP:20260423T104705
CREATED:20230914T200802Z
LAST-MODIFIED:20230914T200802Z
UID:10000510-1848301200-1848312000@summitrealestateacademy.com
SUMMARY:45-Hour Pre-Licensing Education Course: Day Class
DESCRIPTION:Our interactive course with state-certified instructors will prepare you for your career in real estate.
URL:https://summitrealestateacademy.com/event/45-hour-pre-licensing-education-course-day-class/2028-07-27/
END:VEVENT
BEGIN:VEVENT
DTSTART;TZID=America/New_York:20280727T180000
DTEND;TZID=America/New_York:20280727T210000
DTSTAMP:20260423T104705
CREATED:20230914T200922Z
LAST-MODIFIED:20230914T200922Z
UID:10001033-1848333600-1848344400@summitrealestateacademy.com
SUMMARY:45-Hour Pre-Licensing Education Course: Night Class
DESCRIPTION:Our interactive course with state-certified instructors will prepare you for your career in real estate.
URL:https://summitrealestateacademy.com/event/45-hour-pre-licensing-education-course-night-class/2028-07-27/
END:VEVENT
BEGIN:VEVENT
DTSTART;TZID=America/New_York:20280801T090000
DTEND;TZID=America/New_York:20280801T120000
DTSTAMP:20260423T104705
CREATED:20230914T200802Z
LAST-MODIFIED:20230914T200802Z
UID:10000511-1848733200-1848744000@summitrealestateacademy.com
SUMMARY:45-Hour Pre-Licensing Education Course: Day Class
DESCRIPTION:Our interactive course with state-certified instructors will prepare you for your career in real estate.
URL:https://summitrealestateacademy.com/event/45-hour-pre-licensing-education-course-day-class/2028-08-01/
END:VEVENT
BEGIN:VEVENT
DTSTART;TZID=America/New_York:20280801T180000
DTEND;TZID=America/New_York:20280801T210000
DTSTAMP:20260423T104705
CREATED:20230914T200922Z
LAST-MODIFIED:20230914T200922Z
UID:10001034-1848765600-1848776400@summitrealestateacademy.com
SUMMARY:45-Hour Pre-Licensing Education Course: Night Class
DESCRIPTION:Our interactive course with state-certified instructors will prepare you for your career in real estate.
URL:https://summitrealestateacademy.com/event/45-hour-pre-licensing-education-course-night-class/2028-08-01/
END:VEVENT
BEGIN:VEVENT
DTSTART;TZID=America/New_York:20280802T090000
DTEND;TZID=America/New_York:20280802T100000
DTSTAMP:20260423T104705
CREATED:20231002T200716Z
LAST-MODIFIED:20231002T200716Z
UID:10001173-1848819600-1848823200@summitrealestateacademy.com
SUMMARY:Free Course 202: Landlord/Tenant Law
DESCRIPTION:A real estate course designed for both renters\, tenants\, and realtors.
URL:https://summitrealestateacademy.com/event/free-course-202-landlord-tenant-law/2028-08-02/
END:VEVENT
BEGIN:VEVENT
DTSTART;TZID=America/New_York:20280803T090000
DTEND;TZID=America/New_York:20280803T120000
DTSTAMP:20260423T104705
CREATED:20230914T200802Z
LAST-MODIFIED:20230914T200802Z
UID:10000512-1848906000-1848916800@summitrealestateacademy.com
SUMMARY:45-Hour Pre-Licensing Education Course: Day Class
DESCRIPTION:Our interactive course with state-certified instructors will prepare you for your career in real estate.
URL:https://summitrealestateacademy.com/event/45-hour-pre-licensing-education-course-day-class/2028-08-03/
END:VEVENT
BEGIN:VEVENT
DTSTART;TZID=America/New_York:20280803T180000
DTEND;TZID=America/New_York:20280803T210000
DTSTAMP:20260423T104705
CREATED:20230914T200922Z
LAST-MODIFIED:20230914T200922Z
UID:10001035-1848938400-1848949200@summitrealestateacademy.com
SUMMARY:45-Hour Pre-Licensing Education Course: Night Class
DESCRIPTION:Our interactive course with state-certified instructors will prepare you for your career in real estate.
URL:https://summitrealestateacademy.com/event/45-hour-pre-licensing-education-course-night-class/2028-08-03/
END:VEVENT
BEGIN:VEVENT
DTSTART;TZID=America/New_York:20280808T090000
DTEND;TZID=America/New_York:20280808T120000
DTSTAMP:20260423T104705
CREATED:20230914T200802Z
LAST-MODIFIED:20230914T200802Z
UID:10000513-1849338000-1849348800@summitrealestateacademy.com
SUMMARY:45-Hour Pre-Licensing Education Course: Day Class
DESCRIPTION:Our interactive course with state-certified instructors will prepare you for your career in real estate.
URL:https://summitrealestateacademy.com/event/45-hour-pre-licensing-education-course-day-class/2028-08-08/
END:VEVENT
BEGIN:VEVENT
DTSTART;TZID=America/New_York:20280808T180000
DTEND;TZID=America/New_York:20280808T210000
DTSTAMP:20260423T104705
CREATED:20230914T200922Z
LAST-MODIFIED:20230914T200922Z
UID:10001036-1849370400-1849381200@summitrealestateacademy.com
SUMMARY:45-Hour Pre-Licensing Education Course: Night Class
DESCRIPTION:Our interactive course with state-certified instructors will prepare you for your career in real estate.
URL:https://summitrealestateacademy.com/event/45-hour-pre-licensing-education-course-night-class/2028-08-08/
END:VEVENT
BEGIN:VEVENT
DTSTART;TZID=America/New_York:20280810T090000
DTEND;TZID=America/New_York:20280810T120000
DTSTAMP:20260423T104705
CREATED:20230914T200802Z
LAST-MODIFIED:20230914T200802Z
UID:10000514-1849510800-1849521600@summitrealestateacademy.com
SUMMARY:45-Hour Pre-Licensing Education Course: Day Class
DESCRIPTION:Our interactive course with state-certified instructors will prepare you for your career in real estate.
URL:https://summitrealestateacademy.com/event/45-hour-pre-licensing-education-course-day-class/2028-08-10/
END:VEVENT
BEGIN:VEVENT
DTSTART;TZID=America/New_York:20280810T180000
DTEND;TZID=America/New_York:20280810T210000
DTSTAMP:20260423T104705
CREATED:20230914T200922Z
LAST-MODIFIED:20230914T200922Z
UID:10001037-1849543200-1849554000@summitrealestateacademy.com
SUMMARY:45-Hour Pre-Licensing Education Course: Night Class
DESCRIPTION:Our interactive course with state-certified instructors will prepare you for your career in real estate.
URL:https://summitrealestateacademy.com/event/45-hour-pre-licensing-education-course-night-class/2028-08-10/
END:VEVENT
BEGIN:VEVENT
DTSTART;TZID=America/New_York:20280815T090000
DTEND;TZID=America/New_York:20280815T120000
DTSTAMP:20260423T104705
CREATED:20230914T200802Z
LAST-MODIFIED:20230914T200802Z
UID:10000515-1849942800-1849953600@summitrealestateacademy.com
SUMMARY:45-Hour Pre-Licensing Education Course: Day Class
DESCRIPTION:Our interactive course with state-certified instructors will prepare you for your career in real estate.
URL:https://summitrealestateacademy.com/event/45-hour-pre-licensing-education-course-day-class/2028-08-15/
END:VEVENT
BEGIN:VEVENT
DTSTART;TZID=America/New_York:20280815T180000
DTEND;TZID=America/New_York:20280815T210000
DTSTAMP:20260423T104705
CREATED:20230914T200922Z
LAST-MODIFIED:20230914T200922Z
UID:10001038-1849975200-1849986000@summitrealestateacademy.com
SUMMARY:45-Hour Pre-Licensing Education Course: Night Class
DESCRIPTION:Our interactive course with state-certified instructors will prepare you for your career in real estate.
URL:https://summitrealestateacademy.com/event/45-hour-pre-licensing-education-course-night-class/2028-08-15/
END:VEVENT
BEGIN:VEVENT
DTSTART;TZID=America/New_York:20280816T090000
DTEND;TZID=America/New_York:20280816T100000
DTSTAMP:20260423T104705
CREATED:20231002T200716Z
LAST-MODIFIED:20231002T200716Z
UID:10001174-1850029200-1850032800@summitrealestateacademy.com
SUMMARY:Free Course 202: Landlord/Tenant Law
DESCRIPTION:A real estate course designed for both renters\, tenants\, and realtors.
URL:https://summitrealestateacademy.com/event/free-course-202-landlord-tenant-law/2028-08-16/
END:VEVENT
BEGIN:VEVENT
DTSTART;TZID=America/New_York:20280817T090000
DTEND;TZID=America/New_York:20280817T120000
DTSTAMP:20260423T104705
CREATED:20230914T200802Z
LAST-MODIFIED:20230914T200802Z
UID:10000516-1850115600-1850126400@summitrealestateacademy.com
SUMMARY:45-Hour Pre-Licensing Education Course: Day Class
DESCRIPTION:Our interactive course with state-certified instructors will prepare you for your career in real estate.
URL:https://summitrealestateacademy.com/event/45-hour-pre-licensing-education-course-day-class/2028-08-17/
END:VEVENT
BEGIN:VEVENT
DTSTART;TZID=America/New_York:20280817T180000
DTEND;TZID=America/New_York:20280817T210000
DTSTAMP:20260423T104705
CREATED:20230914T200922Z
LAST-MODIFIED:20230914T200922Z
UID:10001039-1850148000-1850158800@summitrealestateacademy.com
SUMMARY:45-Hour Pre-Licensing Education Course: Night Class
DESCRIPTION:Our interactive course with state-certified instructors will prepare you for your career in real estate.
URL:https://summitrealestateacademy.com/event/45-hour-pre-licensing-education-course-night-class/2028-08-17/
END:VEVENT
BEGIN:VEVENT
DTSTART;TZID=America/New_York:20280822T090000
DTEND;TZID=America/New_York:20280822T120000
DTSTAMP:20260423T104705
CREATED:20230914T200802Z
LAST-MODIFIED:20230914T200802Z
UID:10000517-1850547600-1850558400@summitrealestateacademy.com
SUMMARY:45-Hour Pre-Licensing Education Course: Day Class
DESCRIPTION:Our interactive course with state-certified instructors will prepare you for your career in real estate.
URL:https://summitrealestateacademy.com/event/45-hour-pre-licensing-education-course-day-class/2028-08-22/
END:VEVENT
BEGIN:VEVENT
DTSTART;TZID=America/New_York:20280822T180000
DTEND;TZID=America/New_York:20280822T210000
DTSTAMP:20260423T104705
CREATED:20230914T200922Z
LAST-MODIFIED:20230914T200922Z
UID:10001040-1850580000-1850590800@summitrealestateacademy.com
SUMMARY:45-Hour Pre-Licensing Education Course: Night Class
DESCRIPTION:Our interactive course with state-certified instructors will prepare you for your career in real estate.
URL:https://summitrealestateacademy.com/event/45-hour-pre-licensing-education-course-night-class/2028-08-22/
END:VEVENT
BEGIN:VEVENT
DTSTART;TZID=America/New_York:20280824T090000
DTEND;TZID=America/New_York:20280824T120000
DTSTAMP:20260423T104705
CREATED:20230914T200802Z
LAST-MODIFIED:20230914T200802Z
UID:10000518-1850720400-1850731200@summitrealestateacademy.com
SUMMARY:45-Hour Pre-Licensing Education Course: Day Class
DESCRIPTION:Our interactive course with state-certified instructors will prepare you for your career in real estate.
URL:https://summitrealestateacademy.com/event/45-hour-pre-licensing-education-course-day-class/2028-08-24/
END:VEVENT
END:VCALENDAR