BEGIN:VCALENDAR
VERSION:2.0
PRODID:-//Summit Real Estate Academy - ECPv6.15.20//NONSGML v1.0//EN
CALSCALE:GREGORIAN
METHOD:PUBLISH
X-WR-CALNAME:Summit Real Estate Academy
X-ORIGINAL-URL:https://summitrealestateacademy.com
X-WR-CALDESC:Events for Summit Real Estate Academy
REFRESH-INTERVAL;VALUE=DURATION:PT1H
X-Robots-Tag:noindex
X-PUBLISHED-TTL:PT1H
BEGIN:VTIMEZONE
TZID:America/New_York
BEGIN:DAYLIGHT
TZOFFSETFROM:-0500
TZOFFSETTO:-0400
TZNAME:EDT
DTSTART:20270314T070000
END:DAYLIGHT
BEGIN:STANDARD
TZOFFSETFROM:-0400
TZOFFSETTO:-0500
TZNAME:EST
DTSTART:20271107T060000
END:STANDARD
BEGIN:DAYLIGHT
TZOFFSETFROM:-0500
TZOFFSETTO:-0400
TZNAME:EDT
DTSTART:20280312T070000
END:DAYLIGHT
BEGIN:STANDARD
TZOFFSETFROM:-0400
TZOFFSETTO:-0500
TZNAME:EST
DTSTART:20281105T060000
END:STANDARD
BEGIN:DAYLIGHT
TZOFFSETFROM:-0500
TZOFFSETTO:-0400
TZNAME:EDT
DTSTART:20290311T070000
END:DAYLIGHT
BEGIN:STANDARD
TZOFFSETFROM:-0400
TZOFFSETTO:-0500
TZNAME:EST
DTSTART:20291104T060000
END:STANDARD
END:VTIMEZONE
BEGIN:VEVENT
DTSTART;TZID=America/New_York:20280829T180000
DTEND;TZID=America/New_York:20280829T210000
DTSTAMP:20260425T062507
CREATED:20230914T200922Z
LAST-MODIFIED:20230914T200922Z
UID:10001042-1851184800-1851195600@summitrealestateacademy.com
SUMMARY:45-Hour Pre-Licensing Education Course: Night Class
DESCRIPTION:Our interactive course with state-certified instructors will prepare you for your career in real estate.
URL:https://summitrealestateacademy.com/event/45-hour-pre-licensing-education-course-night-class/2028-08-29/
END:VEVENT
BEGIN:VEVENT
DTSTART;TZID=America/New_York:20280830T090000
DTEND;TZID=America/New_York:20280830T100000
DTSTAMP:20260425T062507
CREATED:20231002T200716Z
LAST-MODIFIED:20231002T200716Z
UID:10001175-1851238800-1851242400@summitrealestateacademy.com
SUMMARY:Free Course 202: Landlord/Tenant Law
DESCRIPTION:A real estate course designed for both renters\, tenants\, and realtors.
URL:https://summitrealestateacademy.com/event/free-course-202-landlord-tenant-law/2028-08-30/
END:VEVENT
BEGIN:VEVENT
DTSTART;TZID=America/New_York:20280831T090000
DTEND;TZID=America/New_York:20280831T120000
DTSTAMP:20260425T062507
CREATED:20230914T200802Z
LAST-MODIFIED:20230914T200802Z
UID:10000520-1851325200-1851336000@summitrealestateacademy.com
SUMMARY:45-Hour Pre-Licensing Education Course: Day Class
DESCRIPTION:Our interactive course with state-certified instructors will prepare you for your career in real estate.
URL:https://summitrealestateacademy.com/event/45-hour-pre-licensing-education-course-day-class/2028-08-31/
END:VEVENT
BEGIN:VEVENT
DTSTART;TZID=America/New_York:20280831T180000
DTEND;TZID=America/New_York:20280831T210000
DTSTAMP:20260425T062507
CREATED:20230914T200922Z
LAST-MODIFIED:20230914T200922Z
UID:10001043-1851357600-1851368400@summitrealestateacademy.com
SUMMARY:45-Hour Pre-Licensing Education Course: Night Class
DESCRIPTION:Our interactive course with state-certified instructors will prepare you for your career in real estate.
URL:https://summitrealestateacademy.com/event/45-hour-pre-licensing-education-course-night-class/2028-08-31/
END:VEVENT
BEGIN:VEVENT
DTSTART;TZID=America/New_York:20280905T090000
DTEND;TZID=America/New_York:20280905T120000
DTSTAMP:20260425T062507
CREATED:20230914T200802Z
LAST-MODIFIED:20230914T200802Z
UID:10000521-1851757200-1851768000@summitrealestateacademy.com
SUMMARY:45-Hour Pre-Licensing Education Course: Day Class
DESCRIPTION:Our interactive course with state-certified instructors will prepare you for your career in real estate.
URL:https://summitrealestateacademy.com/event/45-hour-pre-licensing-education-course-day-class/2028-09-05/
END:VEVENT
BEGIN:VEVENT
DTSTART;TZID=America/New_York:20280905T180000
DTEND;TZID=America/New_York:20280905T210000
DTSTAMP:20260425T062507
CREATED:20230914T200922Z
LAST-MODIFIED:20230914T200922Z
UID:10001044-1851789600-1851800400@summitrealestateacademy.com
SUMMARY:45-Hour Pre-Licensing Education Course: Night Class
DESCRIPTION:Our interactive course with state-certified instructors will prepare you for your career in real estate.
URL:https://summitrealestateacademy.com/event/45-hour-pre-licensing-education-course-night-class/2028-09-05/
END:VEVENT
BEGIN:VEVENT
DTSTART;TZID=America/New_York:20280907T090000
DTEND;TZID=America/New_York:20280907T120000
DTSTAMP:20260425T062507
CREATED:20230914T200802Z
LAST-MODIFIED:20230914T200802Z
UID:10000522-1851930000-1851940800@summitrealestateacademy.com
SUMMARY:45-Hour Pre-Licensing Education Course: Day Class
DESCRIPTION:Our interactive course with state-certified instructors will prepare you for your career in real estate.
URL:https://summitrealestateacademy.com/event/45-hour-pre-licensing-education-course-day-class/2028-09-07/
END:VEVENT
BEGIN:VEVENT
DTSTART;TZID=America/New_York:20280907T180000
DTEND;TZID=America/New_York:20280907T210000
DTSTAMP:20260425T062507
CREATED:20230914T200922Z
LAST-MODIFIED:20230914T200922Z
UID:10001045-1851962400-1851973200@summitrealestateacademy.com
SUMMARY:45-Hour Pre-Licensing Education Course: Night Class
DESCRIPTION:Our interactive course with state-certified instructors will prepare you for your career in real estate.
URL:https://summitrealestateacademy.com/event/45-hour-pre-licensing-education-course-night-class/2028-09-07/
END:VEVENT
BEGIN:VEVENT
DTSTART;TZID=America/New_York:20280912T090000
DTEND;TZID=America/New_York:20280912T120000
DTSTAMP:20260425T062507
CREATED:20230914T200802Z
LAST-MODIFIED:20230914T200802Z
UID:10000523-1852362000-1852372800@summitrealestateacademy.com
SUMMARY:45-Hour Pre-Licensing Education Course: Day Class
DESCRIPTION:Our interactive course with state-certified instructors will prepare you for your career in real estate.
URL:https://summitrealestateacademy.com/event/45-hour-pre-licensing-education-course-day-class/2028-09-12/
END:VEVENT
BEGIN:VEVENT
DTSTART;TZID=America/New_York:20280912T180000
DTEND;TZID=America/New_York:20280912T210000
DTSTAMP:20260425T062507
CREATED:20230914T200922Z
LAST-MODIFIED:20230914T200922Z
UID:10001046-1852394400-1852405200@summitrealestateacademy.com
SUMMARY:45-Hour Pre-Licensing Education Course: Night Class
DESCRIPTION:Our interactive course with state-certified instructors will prepare you for your career in real estate.
URL:https://summitrealestateacademy.com/event/45-hour-pre-licensing-education-course-night-class/2028-09-12/
END:VEVENT
BEGIN:VEVENT
DTSTART;TZID=America/New_York:20280913T090000
DTEND;TZID=America/New_York:20280913T100000
DTSTAMP:20260425T062507
CREATED:20231002T200716Z
LAST-MODIFIED:20231002T200716Z
UID:10001176-1852448400-1852452000@summitrealestateacademy.com
SUMMARY:Free Course 202: Landlord/Tenant Law
DESCRIPTION:A real estate course designed for both renters\, tenants\, and realtors.
URL:https://summitrealestateacademy.com/event/free-course-202-landlord-tenant-law/2028-09-13/
END:VEVENT
BEGIN:VEVENT
DTSTART;TZID=America/New_York:20280914T090000
DTEND;TZID=America/New_York:20280914T120000
DTSTAMP:20260425T062507
CREATED:20230914T200802Z
LAST-MODIFIED:20230914T200802Z
UID:10000524-1852534800-1852545600@summitrealestateacademy.com
SUMMARY:45-Hour Pre-Licensing Education Course: Day Class
DESCRIPTION:Our interactive course with state-certified instructors will prepare you for your career in real estate.
URL:https://summitrealestateacademy.com/event/45-hour-pre-licensing-education-course-day-class/2028-09-14/
END:VEVENT
BEGIN:VEVENT
DTSTART;TZID=America/New_York:20280914T180000
DTEND;TZID=America/New_York:20280914T210000
DTSTAMP:20260425T062507
CREATED:20230914T200922Z
LAST-MODIFIED:20230914T200922Z
UID:10001047-1852567200-1852578000@summitrealestateacademy.com
SUMMARY:45-Hour Pre-Licensing Education Course: Night Class
DESCRIPTION:Our interactive course with state-certified instructors will prepare you for your career in real estate.
URL:https://summitrealestateacademy.com/event/45-hour-pre-licensing-education-course-night-class/2028-09-14/
END:VEVENT
BEGIN:VEVENT
DTSTART;TZID=America/New_York:20280927T090000
DTEND;TZID=America/New_York:20280927T100000
DTSTAMP:20260425T062507
CREATED:20231002T200716Z
LAST-MODIFIED:20231002T200716Z
UID:10001177-1853658000-1853661600@summitrealestateacademy.com
SUMMARY:Free Course 202: Landlord/Tenant Law
DESCRIPTION:A real estate course designed for both renters\, tenants\, and realtors.
URL:https://summitrealestateacademy.com/event/free-course-202-landlord-tenant-law/2028-09-27/
END:VEVENT
END:VCALENDAR